BEGIN:VCALENDAR
VERSION:2.0
PRODID:-//ZContent.net//ZapCalLib 1.0//EN
CALSCALE:GREGORIAN
METHOD:PUBLISH
BEGIN:VEVENT
SUMMARY:Alumni Speaker Panel and Networking Event
LOCATION:Chemistry A101
TZID:America/Denver
DTSTART:20240417T160000
UID:2026-04-23-08-02-51@natsci.colostate.edu
DTSTAMP:20260423T080251
Description:The Alumni Speaker Panel and Networking Event will host speaker
 s\, Robin Cywar and Samantha Miller\, recent alumni of the department\, wh
 o will speak about their careers and navigating the chemistry world after 
 graduation. There will be a Q&amp\;A session included followed by a pizza 
 dinner with the speakers. This is a great opportunity for our Grad student
 s and recent alumni to gain insight into starting their careers after grad
 uation. Please RSVP here!\n\n&nbsp\; 4:00 pm
END:VEVENT
END:VCALENDAR
