BEGIN:VCALENDAR
VERSION:2.0
PRODID:-//ZContent.net//ZapCalLib 1.0//EN
CALSCALE:GREGORIAN
METHOD:PUBLISH
BEGIN:VEVENT
SUMMARY:Zeta-potential and micro-rheology in product formulation
LOCATION:Microsoft Teams (virtual)
TZID:America/Denver
DTSTART:20230419T140000
UID:2026-04-23-09-38-14@natsci.colostate.edu
DTSTAMP:20260423T093814
Description:This seminar is part of the ARC Seminar Series and Educational 
 Lectures. Please visit https://www.research.colostate.edu/arc/arc-seminar-
 series/ for more information\, and to register for the seminar. 2:00 pm
END:VEVENT
END:VCALENDAR
