BEGIN:VCALENDAR
VERSION:2.0
PRODID:-//ZContent.net//ZapCalLib 1.0//EN
CALSCALE:GREGORIAN
METHOD:PUBLISH
BEGIN:VEVENT
SUMMARY:Analytical Division Poster Session
LOCATION:Virtual Seminars
TZID:America/Denver
DTSTART:20200200T000000
UID:2026-04-25-03-31-57@natsci.colostate.edu
DTSTAMP:20260425T033157
Description:Analytical Division Poster Session\n\nLinks to presentations: T
 BA12:00 am
END:VEVENT
END:VCALENDAR
