BEGIN:VCALENDAR
VERSION:2.0
PRODID:-//ZContent.net//ZapCalLib 1.0//EN
CALSCALE:GREGORIAN
METHOD:PUBLISH
BEGIN:VEVENT
SUMMARY:Exciton Science: From the Bottom Up
LOCATION:Yates 102/103
TZID:America/Denver
DTSTART:20230615T160000
UID:2026-04-24-16-17-45@natsci.colostate.edu
DTSTAMP:20260424T161745
Description:Bio:Â Â Dr Asaph Widmer-Cooper is an Associate Professor in the
  School of Chemistry at the University of Sydney\, a Chief Investigator of
  the ARC Centre of Excellence in Exciton Science\, and a member of the Uni
 versity of Sydney Nano Institute. His research focuses on the application 
 of computer simulations to understand the formation and properties of nano
 materials. This includes work on colloidal interactions and assembly\, the
  structure and dynamics of complex fluids\, crystal nucleation and growth\
 , and the design of new materials for harnessing solar energy.\n\nAbstract
 :Â  One of the biggest challenges of the 21st century will be our transiti
 on away from a reliance on fossil fuels to power the world. This will requ
 ire new methods of generating and transforming energy\, involving material
 s with clever design of light-matter interactions. Equally important is to
  make these materials via scalable\, energy-efficient processes\, so that 
 new technologies can be deployed at scale with low embodied energy. This\,
  in turn\, will require better control over the spontaneous\, bottom-up or
 ganisation of atoms\, molecules and nanoparticles into ordered structures 
 at near-ambient conditions.\n\nIn my presentation\, I will discuss how we 
 are addressing this problem\, in collaboration with experimental partners\
 , via the use of theoretical modelling and computer simulations. This will
  include discussion of how nanoparticles interact with each other in solut
 ion [1-4]\, how they can be driven to assemble into optically anisotropic 
 materials [5-6]\, and of how the microstructure of printable perovskite se
 miconductors depends on their interaction with light [7].\n\n 	Kister\, T.
  et al.Â ACS Nano2018\,Â 12\, 5969.\n 	Monego\, D. et al.Â Langmuir2018\,Â
  34\, 12982.\n 	Monego\, D. et al.Â ACS Nano2020\,Â 14\, 5278.\n 	Hasan\, 
 R. et al. ACS Nano2023\, 10.1021/acsnano.3c00812\n 	Zhang\, H. et al.  Fun
 ct. Mater. 2021\, 31\, 2006753\n 	Zhang\, H. et al.  Optical Mater. 2022\,
  10\, 2200179\n 	Mao\, W. et al.  Mater. 2021\, 20\, 55\n 4:00 pm
END:VEVENT
END:VCALENDAR
