BEGIN:VCALENDAR
VERSION:2.0
PRODID:-//ZContent.net//ZapCalLib 1.0//EN
CALSCALE:GREGORIAN
METHOD:PUBLISH
BEGIN:VEVENT
SUMMARY:&#8220;Bugs,&#8217; Begone: Monfort Lecture
LOCATION:Lory Student Center 308-310
TZID:America/Denver
DTSTART:20194101T000000
UID:2026-04-25-13-16-31@natsci.colostate.edu
DTSTAMP:20260425T131631
Description: 4:00 pm
END:VEVENT
END:VCALENDAR
