BEGIN:VCALENDAR
VERSION:2.0
PRODID:-//ZContent.net//ZapCalLib 1.0//EN
CALSCALE:GREGORIAN
METHOD:PUBLISH
BEGIN:VEVENT
SUMMARY:Candidate Seminar
LOCATION:
TZID:America/Denver
DTSTART:20220113T160000
UID:2026-04-23-18-07-44@natsci.colostate.edu
DTSTAMP:20260423T180744
Description: 4:00 pm
END:VEVENT
END:VCALENDAR
