BEGIN:VCALENDAR
VERSION:2.0
PRODID:-//ZContent.net//ZapCalLib 1.0//EN
CALSCALE:GREGORIAN
METHOD:PUBLISH
BEGIN:VEVENT
SUMMARY:Lessons in Research Reproducibility: I&#8217;ll Keep on Making New 
 Mistakes
LOCATION:Smith Natural Resources 345
TZID:America/Denver
DTSTART:20230503T150000
UID:2026-04-24-16-47-12@natsci.colostate.edu
DTSTAMP:20260424T164712
Description:Please join us on Wednesday\, May 3 from 3 – 4 p.m. in Smith 
 Natural Resources 345 for a presentation by Casey Greene entitled Lessons
  in Research Reproducibility: I\\'ll Keep on Making New Mistakes.\n \nGre
 ene is the founding chair of the Department of Biomedical Informatics at 
 the University of Colorado School of Medicine. In 2014\, he was named a Mo
 ore Investigator in Data-Driven Discovery by the Gordon and Betty Moore Fo
 undation.\n \nDr. Greene’s lab develops algorithms that integrate publi
 cly available data to help model and understand complex biological systems
 . They prioritize transparency\, rigor and reproducibility in developing n
 ew computational methods\, and create tools that are 100% open-source and 
 available to anyone to use and modify.\n \nAgenda:\n \n3-4 PM: Presentat
 ion\n4-5 PM: Reception\n \nRefreshments will be served.\n \nPlease click
  here to register and download this event to your calendar. 3:00 pm
END:VEVENT
END:VCALENDAR
