BEGIN:VCALENDAR
VERSION:2.0
PRODID:-//ZContent.net//ZapCalLib 1.0//EN
CALSCALE:GREGORIAN
METHOD:PUBLISH
BEGIN:VEVENT
SUMMARY:CGSO &#8211; Coping with Covid: Ways to support your wellbeing and 
 manage stress in a pandemic
LOCATION:Virtual Seminar
TZID:America/Denver
DTSTART:20209301T000000
UID:2026-04-23-20-52-32@natsci.colostate.edu
DTSTAMP:20260423T205232
Description:The COVID pandemic has been an unforeseen\, monumentally stress
 ful experience to occur this year. Join us in talking with folks from the 
 CSU Health Network to learn about how to cope with the stressors of going 
 through graduate school during this pandemic. This Zoom talk and discussio
 n will focus on dealing with stress in a healthy way\, with a focus on the
  stressors of COVID times. There will be tips on stress management as well
  as how to stay mentally healthy in these remarkable times. 4:00 pm
END:VEVENT
END:VCALENDAR
