BEGIN:VCALENDAR
VERSION:2.0
PRODID:-//ZContent.net//ZapCalLib 1.0//EN
CALSCALE:GREGORIAN
METHOD:PUBLISH
BEGIN:VEVENT
SUMMARY:Literature Seminar Mentoring: Getting advice from senior graduate s
 tudents for a successful lit seminar
LOCATION:Virtual Seminar
TZID:America/Denver
DTSTART:20209201T000000
UID:2026-04-24-10-18-01@natsci.colostate.edu
DTSTAMP:20260424T101801
Description:Are you a second year giving a virtual literature seminar this 
 year who\\'s wondering how to give a successful talk? Join us and hear fro
 m folks who gave (and passed) their lit seminars! They will share tips an
 d tricks on how they prepared and executed their lit sems\, to help you ge
 t ready for yours.\n\nThis is event is open to second years looking for ad
 vice and 3rd+ years who can give good advice on how to give a successful s
 eminar. If you want to sign up for the event\, please fill out this google
  form: https://forms.gle/AJLULZ9m9gnZdvtPA\n 4:00 pm
END:VEVENT
END:VCALENDAR
