BEGIN:VCALENDAR
VERSION:2.0
PRODID:-//ZContent.net//ZapCalLib 1.0//EN
CALSCALE:GREGORIAN
METHOD:PUBLISH
BEGIN:VEVENT
SUMMARY:Multiplexed Microarray-Based Technologies for Vaccine Characterizat
 ion and Serology
LOCATION:Chemistry A101
TZID:America/Denver
DTSTART:20221116T160000
UID:2026-04-22-16-17-59@natsci.colostate.edu
DTSTAMP:20260422T161759
Description:About the Seminar \n\nInDevR is a small life science tools com
 pany in Boulder that supports the vaccine development and manufacturing in
 dustry.  The talk will highlight product development efforts for InDevR\\
 's VaxArray platform to support traditional vaccines such as influenza and
  pneumococcal conjugate vaccines\, and recent efforts to develop nucleic a
 cid microarrays to characterize mRNA vaccine constructs. 4:00 pm
END:VEVENT
END:VCALENDAR
