BEGIN:VCALENDAR
VERSION:2.0
PRODID:-//ZContent.net//ZapCalLib 1.0//EN
CALSCALE:GREGORIAN
METHOD:PUBLISH
BEGIN:VEVENT
SUMMARY:Analysis of volatile organics using Thermal Desorption GC-MS
LOCATION:Online Only - Microsoft Teams
TZID:America/Denver
DTSTART:20230301T140000
UID:2026-04-23-22-13-10@natsci.colostate.edu
DTSTAMP:20260423T221310
Description:Please visit https://www.research.colostate.edu/arc/arc-seminar
 -series/ for seminar details\, and to register for this online seminar.  
 2:00 pm
END:VEVENT
END:VCALENDAR
