BEGIN:VCALENDAR
VERSION:2.0
PRODID:-//ZContent.net//ZapCalLib 1.0//EN
CALSCALE:GREGORIAN
METHOD:PUBLISH
BEGIN:VEVENT
SUMMARY:Developing Scanning Electrochemical Cell Microscopy (SECCM) and Inv
 estigating Transition Metal Dichalcogenide (TMD) Semiconductor Photoelectr
 ochemistry
LOCATION:Chemistry A101
TZID:America/Denver
DTSTART:20240829T160000
UID:2026-04-23-19-38-35@natsci.colostate.edu
DTSTAMP:20260423T193835
Description:About the Seminar:\n\nTransition metal dichalcogenides (TMD) ar
 e efficient electrode materials for photoelectrochemical (PEC) energy conv
 ersion applications\, although bulk TMD electrodes are generally more effi
 cient than nanoflake TMD thin films. The disparity in PEC performance is g
 enerally attributed to charge carrier recombination at defect or edge site
 s. Recently\, doping heterogeneity has been proposed as an alternative exp
 lanation for the limited ensemble-level performance. Understanding this pe
 rformance disparity is crucial for advancing large-scale production method
 s of heterogeneous nanoflake TMD thin film electrodes. Here\, I will discu
 ss recent results that compare scanning photocurrent microscopy and scanni
 ng electrochemical cell microscopy measurements of individual TMD nanoflak
 es. 4:00 pm
END:VEVENT
END:VCALENDAR
