BEGIN:VCALENDAR
VERSION:2.0
PRODID:-//ZContent.net//ZapCalLib 1.0//EN
CALSCALE:GREGORIAN
METHOD:PUBLISH
BEGIN:VEVENT
SUMMARY:GRAC Visit Weekend
LOCATION:Chemistry A101
TZID:America/Denver
DTSTART:20260306T160000
UID:2026-04-24-09-50-11@natsci.colostate.edu
DTSTAMP:20260424T095011
Description: 4:00 pm
END:VEVENT
END:VCALENDAR
