BEGIN:VCALENDAR
VERSION:2.0
PRODID:-//ZContent.net//ZapCalLib 1.0//EN
CALSCALE:GREGORIAN
METHOD:PUBLISH
BEGIN:VEVENT
SUMMARY:GRAC Visit Weekend
LOCATION:Chemistry A101
TZID:America/Denver
DTSTART:20260213T160000
UID:2026-04-23-00-51-33@natsci.colostate.edu
DTSTAMP:20260423T005133
Description: 4:00 pm
END:VEVENT
END:VCALENDAR
