BEGIN:VCALENDAR
VERSION:2.0
PRODID:-//ZContent.net//ZapCalLib 1.0//EN
CALSCALE:GREGORIAN
METHOD:PUBLISH
BEGIN:VEVENT
SUMMARY:HACH
LOCATION:Chemistry A101
TZID:America/Denver
DTSTART:20194101T000000
UID:2026-04-22-14-11-11@natsci.colostate.edu
DTSTAMP:20260422T141111
Description: 4:00 pm
END:VEVENT
END:VCALENDAR
