BEGIN:VCALENDAR
VERSION:2.0
PRODID:-//ZContent.net//ZapCalLib 1.0//EN
CALSCALE:GREGORIAN
METHOD:PUBLISH
BEGIN:VEVENT
SUMMARY:Town Hall Meeting
LOCATION:Chemistry A101
TZID:America/Denver
DTSTART:20250327T160000
UID:2026-04-21-22-20-23@natsci.colostate.edu
DTSTAMP:20260421T222023
Description:Matt Shores and members of the Climate and Culture Working Grou
 p would like to invite members of the Chemistry Department and community t
 o attend a Town Hall meeting on Thursday\, March 27\, at 4:00 pm in Chem A
 101.\n\nThe purpose of this Town Hall is to come together in an open forum
  to voice any concerns and ask questions during a time of rapid change in 
 higher education. All are welcome\, and all graduate students are especial
 ly encouraged to attend.\n\nCookies and Refreshments will be provided in C
 hem B101 beforehand. 4:00 pm
END:VEVENT
END:VCALENDAR
