BEGIN:VCALENDAR
VERSION:2.0
PRODID:-//ZContent.net//ZapCalLib 1.0//EN
CALSCALE:GREGORIAN
METHOD:PUBLISH
BEGIN:VEVENT
SUMMARY:Independent Research Proposal
LOCATION:Chemistry A101
TZID:America/Denver
DTSTART:20240401T160000
UID:2026-04-24-10-32-44@natsci.colostate.edu
DTSTAMP:20260424T103244
Description: 4:00 pm
END:VEVENT
END:VCALENDAR
