BEGIN:VCALENDAR
VERSION:2.0
PRODID:-//ZContent.net//ZapCalLib 1.0//EN
CALSCALE:GREGORIAN
METHOD:PUBLISH
BEGIN:VEVENT
SUMMARY:Introduction to Multiphoton Microscopy
LOCATION:
TZID:America/Denver
DTSTART: 2022-09-23
DTEND:20220923
UID:2026-04-24-13-31-09@natsci.colostate.edu
DTSTAMP:20260424T133109
Description:Please visit https://www.research.colostate.edu/arc/arc-seminar
 -series/ for more information on the ARC Seminar Series.12:00 am
END:VEVENT
END:VCALENDAR
