BEGIN:VCALENDAR
VERSION:2.0
PRODID:-//ZContent.net//ZapCalLib 1.0//EN
CALSCALE:GREGORIAN
METHOD:PUBLISH
BEGIN:VEVENT
SUMMARY:John K. Stille Symposium &#8211; Details TBA
LOCATION:TBD
TZID:America/Denver
DTSTART:20230520T083000
UID:2026-04-26-04-27-04@natsci.colostate.edu
DTSTAMP:20260426T042704
Description: 8:30 am
END:VEVENT
END:VCALENDAR
