BEGIN:VCALENDAR
VERSION:2.0
PRODID:-//ZContent.net//ZapCalLib 1.0//EN
CALSCALE:GREGORIAN
METHOD:PUBLISH
BEGIN:VEVENT
SUMMARY:Independent Research Proposal
LOCATION:Chemistry A101
TZID:America/Denver
DTSTART:20241104T160000
UID:2026-04-25-17-40-32@natsci.colostate.edu
DTSTAMP:20260425T174032
Description: 4:00 pm
END:VEVENT
END:VCALENDAR
