BEGIN:VCALENDAR
VERSION:2.0
PRODID:-//ZContent.net//ZapCalLib 1.0//EN
CALSCALE:GREGORIAN
METHOD:PUBLISH
BEGIN:VEVENT
SUMMARY:Materials Chemistry Program Information Session
LOCATION:Chemistry A101
TZID:America/Denver
DTSTART:20198301T000000
UID:2026-04-24-21-50-18@natsci.colostate.edu
DTSTAMP:20260424T215018
Description: 4:00 pm
END:VEVENT
END:VCALENDAR
