BEGIN:VCALENDAR
VERSION:2.0
PRODID:-//ZContent.net//ZapCalLib 1.0//EN
CALSCALE:GREGORIAN
METHOD:PUBLISH
BEGIN:VEVENT
SUMMARY:Materials Program Annual Meeting
LOCATION:
TZID:America/Denver
DTSTART:20240830T160000
UID:2026-04-22-02-16-43@natsci.colostate.edu
DTSTAMP:20260422T021643
Description: 4:00 pm
END:VEVENT
END:VCALENDAR
