BEGIN:VCALENDAR
VERSION:2.0
PRODID:-//ZContent.net//ZapCalLib 1.0//EN
CALSCALE:GREGORIAN
METHOD:PUBLISH
BEGIN:VEVENT
SUMMARY:Materials Program Information Session
LOCATION:Chemistry A101
TZID:America/Denver
DTSTART:20188301T000000
UID:2026-04-22-14-52-41@natsci.colostate.edu
DTSTAMP:20260422T145241
Description:If you are interested in the materials program\, please join Am
 y Prieto Friday\, August 31\, 2018 at 4:00 pm\, in A101 for an overview of
  the program. 4:00 pm
END:VEVENT
END:VCALENDAR
