BEGIN:VCALENDAR
VERSION:2.0
PRODID:-//ZContent.net//ZapCalLib 1.0//EN
CALSCALE:GREGORIAN
METHOD:PUBLISH
BEGIN:VEVENT
SUMMARY:Merck On-Campus Recruiting Visit
LOCATION:Chemistry A101
TZID:America/Denver
DTSTART:20220721T160000
UID:2026-04-24-19-47-36@natsci.colostate.edu
DTSTAMP:20260424T194736
Description:Join us this Thursday\, July 21st\, for an informational sessio
 n with visiting scientists from Merck &amp\; Co.\n\nDr. Jack Scott (Direct
 or - Discovery Chemistry) and Dr. Dan DiRocco (Principal scientist) will b
 e speaking.\n\nPizza will be served at the information session from 4-5pm 
 in the Chemistry building. After the session\, a happy hour from 5-6pm wit
 h students and faculty will be held in the Chemistry Research building. 4:
 00 pm
END:VEVENT
END:VCALENDAR
