BEGIN:VCALENDAR
VERSION:2.0
PRODID:-//ZContent.net//ZapCalLib 1.0//EN
CALSCALE:GREGORIAN
METHOD:PUBLISH
BEGIN:VEVENT
SUMMARY:Pfizer Outreach Virtual Visit
LOCATION:Chemistry A101
TZID:America/Denver
DTSTART:20240408T160000
UID:2026-04-24-02-41-13@natsci.colostate.edu
DTSTAMP:20260424T024113
Description: 4:00 pm
END:VEVENT
END:VCALENDAR
