BEGIN:VCALENDAR
VERSION:2.0
PRODID:-//ZContent.net//ZapCalLib 1.0//EN
CALSCALE:GREGORIAN
METHOD:PUBLISH
BEGIN:VEVENT
SUMMARY:A Talk with State Senator Kevin Priola &#8211; Presented by the POL
 Y/PMSE Student Chapter at CSU
LOCATION:Chemistry A101
TZID:America/Denver
DTSTART:20250507T160000
UID:2026-04-24-07-37-17@natsci.colostate.edu
DTSTAMP:20260424T073717
Description:Join us for a unique opportunity to hear from former State Sena
 tor Kevin Priola\, who has championed numerous science-focused initiatives
  in Colorado—including legislation on affordable insulin\, clean energy\
 , extended producer responsibility\, and more.\n\nState Senator Priola wil
 l be discussing how science and policy can work together more effectively 
 to address real-world challenges.\n\nAre you interested in how science and
  public policy can work together? Senator Priola has sponsored a variety o
 f science-based bills in Colorado ranging from promoting:  clean Air\, ex
 tended producer responsibility\, and renewable energy.\n\nAsk Senator Prio
 la Questions Here: Questions for State Senator Priola 4:00 pm
END:VEVENT
END:VCALENDAR
