BEGIN:VCALENDAR
VERSION:2.0
PRODID:-//ZContent.net//ZapCalLib 1.0//EN
CALSCALE:GREGORIAN
METHOD:PUBLISH
BEGIN:VEVENT
SUMMARY:Polymer Day
LOCATION:Yates 104 and Chem Lobby
TZID:America/Denver
DTSTART:20230727T120000
UID:2026-04-22-02-32-23@natsci.colostate.edu
DTSTAMP:20260422T023223
Description:About the Seminar:\n\n 	Fun polymer demonstrations\n 	Great foo
 d and connections\n 	 Poster session for undergraduate and graduate stude
 nts\nSend poster abstracts (300 words)\nand titles to csupmsepoly@gmail.co
 m\nby June 27\, 2023 for consideration\n 	Poster competition:\n\n 	1st pri
 ze ($150)\n 	2nd prize ($100)\n 	3rd prize ($50)\n\n\n 	Talks from world-r
 enowned scientists\n12:00 pm
END:VEVENT
END:VCALENDAR
