BEGIN:VCALENDAR
VERSION:2.0
PRODID:-//ZContent.net//ZapCalLib 1.0//EN
CALSCALE:GREGORIAN
METHOD:PUBLISH
BEGIN:VEVENT
SUMMARY:Basic Analytical Approach Towards Glycans Using Mass Spectrometry
LOCATION:Virtual - Microsoft Teams
TZID:America/Denver
DTSTART:20230125T140000
UID:2026-04-21-16-28-43@natsci.colostate.edu
DTSTAMP:20260421T162843
Description:Please visit https://www.research.colostate.edu/arc/arc-seminar
 -series/ to register\, and for seminar details.\nJoin us on January 25\, 2
 023 at 2pm\nDr. Prithwiraj De\, Analytical Resources Core\, CSU.\n\nBasic 
 Analytical Approach Towards Glycans Using Mass Spectrometry.\n\n&nbsp\; 2:
 00 pm
END:VEVENT
END:VCALENDAR
