BEGIN:VCALENDAR
VERSION:2.0
PRODID:-//ZContent.net//ZapCalLib 1.0//EN
CALSCALE:GREGORIAN
METHOD:PUBLISH
BEGIN:VEVENT
SUMMARY:All week Reserved for Faculty Interview Talks
LOCATION:
TZID:America/Denver
DTSTART: 2023-11-20
DTEND:20231120
UID:2026-04-24-05-51-49@natsci.colostate.edu
DTSTAMP:20260424T055149
Description:12:00 am
END:VEVENT
END:VCALENDAR
