BEGIN:VCALENDAR
VERSION:2.0
PRODID:-//ZContent.net//ZapCalLib 1.0//EN
CALSCALE:GREGORIAN
METHOD:PUBLISH
BEGIN:VEVENT
SUMMARY:IRP Talk &#8211; 2D Metal-Free Covalent Organic Frameworks for Effi
 cient CO2 Utilization
LOCATION:Chemistry A101
TZID:America/Denver
DTSTART:20240205T160000
UID:2026-04-25-17-38-38@natsci.colostate.edu
DTSTAMP:20260425T173838
Description: 4:00 pm
END:VEVENT
END:VCALENDAR
