BEGIN:VCALENDAR
VERSION:2.0
PRODID:-//ZContent.net//ZapCalLib 1.0//EN
CALSCALE:GREGORIAN
METHOD:PUBLISH
BEGIN:VEVENT
SUMMARY:Senior Thesis Symposium
LOCATION:Chemistry A101
TZID:America/Denver
DTSTART:20240510T150000
UID:2026-04-23-07-13-50@natsci.colostate.edu
DTSTAMP:20260423T071350
Description:Schedule:\n\n3-3:20 #1 Drew Walters\n\nRedox Analysis of Vanadi
 um(V) Schiff Base Catecholates\n\n&nbsp\;\n\n3:20-3:40 #2 Anna Galaeva\n\n
 Synthesis and Characterization of  [VO(dtbHSHED)catecholate]-complexes as
  a potential anticancer agent\n\n&nbsp\;\n\n3:40-4:00 #3 Allen Atkinson\n\
 nExploration of Nickel Foam Based Lithium-Ion batteries\n\n&nbsp\;\n\nBrea
 k 4:00-4:15\n\n&nbsp\;\n\n4:15-4:35 #4 Ellie Nelson\n\nSynthesis and Chara
 cterization for Highly Active Schiff-Base Catecholate Complexes for Intrat
 umoral Cancer Treatment.\n\n&nbsp\;\n\n4:35-4:55 #5 Cameron Osburn\n\nAnal
 ysis of Monoterpene Emissions from a Lumberyard in New York City\n\n&nbsp\
 ;\n\n&nbsp\; 3:00 pm
END:VEVENT
END:VCALENDAR
