BEGIN:VCALENDAR
VERSION:2.0
PRODID:-//ZContent.net//ZapCalLib 1.0//EN
CALSCALE:GREGORIAN
METHOD:PUBLISH
BEGIN:VEVENT
SUMMARY:Research Seminar by Dr. Serge Ruccolo of the Catalysis Group at Mer
 ck
LOCATION:Chemistry Research 401
TZID:America/Denver
DTSTART:20240815T150000
UID:2026-04-24-00-30-01@natsci.colostate.edu
DTSTAMP:20260424T003001
Description:Dr. Serge Ruccolo will be presenting a research seminar on work
  done in the Merck Catalysis group.\n\nHe will also be available for meeti
 ng with\; if you are interested\, please email Jeff Bandar. 3:00 pm
END:VEVENT
END:VCALENDAR
