BEGIN:VCALENDAR
VERSION:2.0
PRODID:-//ZContent.net//ZapCalLib 1.0//EN
CALSCALE:GREGORIAN
METHOD:PUBLISH
BEGIN:VEVENT
SUMMARY:Printable Organic Semiconducting Functional Materials for High Perf
 ormance Transistor,  Energy Harvesting and Sensing Devices
LOCATION:Chemistry A103
TZID:America/Denver
DTSTART:20184001T000000
UID:2026-04-23-11-46-20@natsci.colostate.edu
DTSTAMP:20260423T114620
Description:12:00 pm
END:VEVENT
END:VCALENDAR
