BEGIN:VCALENDAR
VERSION:2.0
PRODID:-//ZContent.net//ZapCalLib 1.0//EN
CALSCALE:GREGORIAN
METHOD:PUBLISH
BEGIN:VEVENT
SUMMARY:TBA-Ben Boyle
LOCATION:Virtual Seminar
TZID:America/Denver
DTSTART:20201203T100000
UID:2026-04-24-19-42-15@natsci.colostate.edu
DTSTAMP:20260424T194215
Description:Independent Research Proposal\n\nTEAMS LINK10:00 am
END:VEVENT
END:VCALENDAR
