BEGIN:VCALENDAR
VERSION:2.0
PRODID:-//ZContent.net//ZapCalLib 1.0//EN
CALSCALE:GREGORIAN
METHOD:PUBLISH
BEGIN:VEVENT
SUMMARY:Bulk synthesis, structure, and electronic properties of magnesium z
 irconium nitride
LOCATION:
TZID:America/Denver
DTSTART:20210402T160000
UID:2026-04-21-05-07-32@natsci.colostate.edu
DTSTAMP:20260421T050732
Description:Research Seminar\n\nZoom Link\nMeeting ID: 955 2650 9962\nPassc
 ode: 004276 4:00 pm
END:VEVENT
END:VCALENDAR
