BEGIN:VCALENDAR
VERSION:2.0
PRODID:-//ZContent.net//ZapCalLib 1.0//EN
CALSCALE:GREGORIAN
METHOD:PUBLISH
BEGIN:VEVENT
SUMMARY:Postponed until Spring 2023-David MacMillan, Ph.D.
LOCATION:Chemistry A101
TZID:America/Denver
DTSTART:20220228T160000
UID:2026-04-26-00-07-14@natsci.colostate.edu
DTSTAMP:20260426T000714
Description:Williams Distinguished Lectureship 4:00 pm
END:VEVENT
END:VCALENDAR
