BEGIN:VCALENDAR
VERSION:2.0
PRODID:-//ZContent.net//ZapCalLib 1.0//EN
CALSCALE:GREGORIAN
METHOD:PUBLISH
BEGIN:VEVENT
SUMMARY:Making Better Batteries: Mitigating Degradation in High Capacity Sb
  Anodes
LOCATION:Chemistry A101
TZID:America/Denver
DTSTART:20193201T000000
UID:2026-04-23-23-41-56@natsci.colostate.edu
DTSTAMP:20260423T234156
Description:Research Seminar Abstract\n\nSubstituting the graphite in today
 ’s commercial Li-ion batteries with high capacity anode materials such a
 s antimony (Sb) could increase the energy stored in such a cell. However\,
  the high capacity of Sb results in large volume changes of the anode duri
 ng discharge/recharge cycles that mechanically degrade the anode\, ultimat
 ely causing the cell to fail prematurely. In my graduate research\, I’ve
  explored several strategies to mitigate the deleterious effects of the me
 chanical degradation in electrodeposited Sb films. Effective mitigation us
 ing these strategies identifies them as design principles for high capacit
 y battery anodes in general\, and highlights the critical limiting factors
  in developing next generation batteries. 4:00 pm
END:VEVENT
END:VCALENDAR
