BEGIN:VCALENDAR
VERSION:2.0
PRODID:-//ZContent.net//ZapCalLib 1.0//EN
CALSCALE:GREGORIAN
METHOD:PUBLISH
BEGIN:VEVENT
SUMMARY:Enantioselective Chemical Synthesis Methods via Cooperative Catalys
 is
LOCATION:Chemistry A101
TZID:America/Denver
DTSTART:20180201T000000
UID:2026-04-22-02-16-46@natsci.colostate.edu
DTSTAMP:20260422T021646
Description:Our laboratory has embraced cooperative catalysis as a general 
 framework for the design of new enantioselective reactions. Within this re
 gime we have exploited cooperative Lewis base/transition metal catalysis a
 s an effective means to control and direct both reaction partners during b
 ond construction. The versatility of this approach is such that each catal
 yst acts in an orthogonal manner\, which permits the role and function of 
 the metal center to be modified and tuned without compromising enantiosele
 ctivity. This seminar will describe our most recent efforts in asymmetric 
 carbon–carbon and carbon-nitrogen bond formation. 4:00 pm
END:VEVENT
END:VCALENDAR
