BEGIN:VCALENDAR
VERSION:2.0
PRODID:-//ZContent.net//ZapCalLib 1.0//EN
CALSCALE:GREGORIAN
METHOD:PUBLISH
BEGIN:VEVENT
SUMMARY:Photocatalysis with Ni
LOCATION:Chemistry A101
TZID:America/Denver
DTSTART:20185001T000000
UID:2026-04-21-19-55-05@natsci.colostate.edu
DTSTAMP:20260421T195505
Description: 4:00 pm
END:VEVENT
END:VCALENDAR
