BEGIN:VCALENDAR
VERSION:2.0
PRODID:-//ZContent.net//ZapCalLib 1.0//EN
CALSCALE:GREGORIAN
METHOD:PUBLISH
BEGIN:VEVENT
SUMMARY:Studying Radiation Stability of a Thoriumâ€“Binaphthol Metalâ€“Orga
 nic Framework
LOCATION:Virtual Literature Seminar
TZID:America/Denver
DTSTART:20201117T160000
UID:2026-04-24-10-02-55@natsci.colostate.edu
DTSTAMP:20260424T100255
Description:Literature Seminar\n\n\nMetal organic frameworks (MOF) have bec
 ome of interest for application in radioactive environments as studies hav
 e shownÂ Î³-irradiation resistance in MOFs. MOFs are synthetically tunable
  which provides an advantage for a variety of applications. However\, ther
 e is not a great understanding of what properties make MOFs resistant to r
 adiation. This talk will focus onÂ Î³-irradiation and He2+Â irradiation st
 udies of a Th4+Â based MOF with extendedÂ Ï€-system as the organic linker 
 to determine the effect on irradiation stability of MOFs withÂ extendedÂ Ï
 €-systems.\n\n[1]Â Gilson\, S. E.\, Fairley\, M.\, Julien\, P.\, Oliver\, 
 A.G.\, Hanna\, S. L.\, Arntz\, G.\, Farha\, O. K.\, LaVerne\,J. A. and Bur
 ns\, P. C.\nJ. Am. Chem. Soc.Â 2020Â 142Â (31)\, 13299-13304\nDOI: 10.1021
 /jacs.0c05272\n\nJoin Zoom Meeting\n\nMeeting ID: 929 7953 0915\nPasscode:
  412601\n\nJoin by SIP\n92979530915@zoomcrc.com\n 4:00 pm
END:VEVENT
END:VCALENDAR
