BEGIN:VCALENDAR
VERSION:2.0
PRODID:-//ZContent.net//ZapCalLib 1.0//EN
CALSCALE:GREGORIAN
METHOD:PUBLISH
BEGIN:VEVENT
SUMMARY:An Evening with Tolmar
LOCATION:Lory Student Center 372-374
TZID:America/Denver
DTSTART:20230920T173000
UID:2026-04-23-13-26-52@natsci.colostate.edu
DTSTAMP:20260423T132652
Description:About the Event:\n\nInterested in Tolmar\\'s Scientific Leaders
 hip Development Program?\n\nInterested PhD students can find event details
  in Handshake.\n\nRegistration is required. Dinner will be provided.\n\n&n
 bsp\;\n\nSession Information:\n\ntolmar-scientific-leadership-program-info
 -session\n\nProgram Information: \n\nscientific-leadership-development-pr
 ogram 5:30 pm
END:VEVENT
END:VCALENDAR
